Package: NTW Version: 1.54.0 Command: /home/biocbuild/R/R-beta-2024-04-15_r86425/bin/R CMD build --keep-empty-dirs --no-resave-data NTW StartedAt: 2024-05-09 02:10:26 -0000 (Thu, 09 May 2024) EndedAt: 2024-05-09 02:10:37 -0000 (Thu, 09 May 2024) EllapsedTime: 11.0 seconds RetCode: 0 Status: OK PackageFile: NTW_1.54.0.tar.gz PackageFileSize: 859.9 KiB