Package: NPARC Version: 1.16.0 Command: /Library/Frameworks/R.framework/Resources/bin/R CMD check --install=check:NPARC.install-out.txt --library=/Library/Frameworks/R.framework/Resources/library --no-vignettes --timings NPARC_1.16.0.tar.gz StartedAt: 2024-10-18 06:12:09 -0400 (Fri, 18 Oct 2024) EndedAt: 2024-10-18 06:13:14 -0400 (Fri, 18 Oct 2024) EllapsedTime: 64.5 seconds RetCode: 0 Status: OK CheckDir: NPARC.Rcheck Warnings: 0