Package: NOISeq Version: 2.48.0 Command: F:\biocbuild\bbs-3.19-bioc\R\bin\R.exe CMD INSTALL NOISeq StartedAt: 2024-06-26 15:39:51 -0400 (Wed, 26 Jun 2024) EndedAt: 2024-06-26 15:40:14 -0400 (Wed, 26 Jun 2024) EllapsedTime: 22.1 seconds RetCode: 0 Status: OK