Package: NOISeq Version: 2.48.0 Command: rm -rf NOISeq.buildbin-libdir && mkdir NOISeq.buildbin-libdir && F:\biocbuild\bbs-3.19-bioc\R\bin\R.exe CMD INSTALL --build --library=NOISeq.buildbin-libdir NOISeq_2.48.0.tar.gz StartedAt: 2024-06-27 08:36:12 -0400 (Thu, 27 Jun 2024) EndedAt: 2024-06-27 08:36:36 -0400 (Thu, 27 Jun 2024) EllapsedTime: 23.4 seconds RetCode: 0 Status: OK PackageFile: NOISeq_2.48.0.zip PackageFileSize: 2.263 MiB