Package: Motif2Site Version: 1.8.0 Command: rm -rf Motif2Site.buildbin-libdir && mkdir Motif2Site.buildbin-libdir && F:\biocbuild\bbs-3.19-bioc\R\bin\R.exe CMD INSTALL --build --library=Motif2Site.buildbin-libdir Motif2Site_1.8.0.tar.gz StartedAt: 2024-06-27 08:32:26 -0400 (Thu, 27 Jun 2024) EndedAt: 2024-06-27 08:32:41 -0400 (Thu, 27 Jun 2024) EllapsedTime: 14.9 seconds RetCode: 0 Status: OK PackageFile: Motif2Site_1.8.0.zip PackageFileSize: 1.462 MiB