Package: Moonlight2R Version: 1.2.0 Command: E:\biocbuild\bbs-3.19-bioc\R\bin\R.exe CMD INSTALL Moonlight2R StartedAt: 2024-10-16 17:06:41 -0400 (Wed, 16 Oct 2024) EndedAt: 2024-10-16 17:08:00 -0400 (Wed, 16 Oct 2024) EllapsedTime: 79.1 seconds RetCode: 0 Status: OK