Package: Moonlight2R Version: 1.2.0 Command: F:\biocbuild\bbs-3.19-bioc\R\bin\R.exe CMD INSTALL Moonlight2R StartedAt: 2024-06-26 16:38:42 -0400 (Wed, 26 Jun 2024) EndedAt: 2024-06-26 16:39:52 -0400 (Wed, 26 Jun 2024) EllapsedTime: 70.1 seconds RetCode: 0 Status: OK