Package: MinimumDistance Version: 1.48.0 Command: /home/biocbuild/bbs-3.19-bioc/R/bin/R CMD check --install=check:MinimumDistance.install-out.txt --library=/home/biocbuild/bbs-3.19-bioc/R/site-library --timings MinimumDistance_1.48.0.tar.gz StartedAt: 2024-10-17 02:28:29 -0400 (Thu, 17 Oct 2024) EndedAt: 2024-10-17 02:34:04 -0400 (Thu, 17 Oct 2024) EllapsedTime: 335.6 seconds RetCode: 0 Status: WARNINGS CheckDir: MinimumDistance.Rcheck Warnings: 4