Package: MiChip Version: 1.58.0 Command: /Library/Frameworks/R.framework/Resources/bin/R CMD build --keep-empty-dirs --no-resave-data MiChip StartedAt: 2024-10-17 04:22:47 -0400 (Thu, 17 Oct 2024) EndedAt: 2024-10-17 04:23:04 -0400 (Thu, 17 Oct 2024) EllapsedTime: 17.0 seconds RetCode: 0 Status: OK PackageFile: MiChip_1.58.0.tar.gz PackageFileSize: 669.9 KiB