Package: MethylSeekR Version: 1.44.0 Command: /Library/Frameworks/R.framework/Resources/bin/R CMD INSTALL MethylSeekR StartedAt: 2024-10-16 15:38:10 -0400 (Wed, 16 Oct 2024) EndedAt: 2024-10-16 15:39:22 -0400 (Wed, 16 Oct 2024) EllapsedTime: 72.0 seconds RetCode: 0 Status: OK