Package: MethReg Version: 1.14.0 Command: /Library/Frameworks/R.framework/Resources/bin/R CMD build --keep-empty-dirs --no-resave-data MethReg StartedAt: 2024-06-10 00:07:51 -0400 (Mon, 10 Jun 2024) EndedAt: 2024-06-10 00:29:59 -0400 (Mon, 10 Jun 2024) EllapsedTime: 1327.9 seconds RetCode: 0 Status: OK PackageFile: MethReg_1.14.0.tar.gz PackageFileSize: 5.385 MiB