Package: MethReg Version: 1.14.0 Command: /Library/Frameworks/R.framework/Resources/bin/R CMD build --keep-empty-dirs --no-resave-data MethReg StartedAt: 2024-10-17 04:00:37 -0400 (Thu, 17 Oct 2024) EndedAt: 2024-10-17 04:17:01 -0400 (Thu, 17 Oct 2024) EllapsedTime: 983.8 seconds RetCode: 0 Status: OK PackageFile: MethReg_1.14.0.tar.gz PackageFileSize: 5.384 MiB