Package: MetNet Version: 1.22.0 Command: rm -rf MetNet.buildbin-libdir && mkdir MetNet.buildbin-libdir && E:\biocbuild\bbs-3.19-bioc\R\bin\R.exe CMD INSTALL --build --library=MetNet.buildbin-libdir MetNet_1.22.0.tar.gz StartedAt: 2024-10-17 08:07:39 -0400 (Thu, 17 Oct 2024) EndedAt: 2024-10-17 08:08:20 -0400 (Thu, 17 Oct 2024) EllapsedTime: 41.8 seconds RetCode: 0 Status: OK PackageFile: MetNet_1.22.0.zip PackageFileSize: 4.08 MiB