Package: MetID Version: 1.22.0 Command: /Library/Frameworks/R.framework/Resources/bin/R CMD build --keep-empty-dirs --no-resave-data MetID StartedAt: 2024-10-16 20:49:09 -0400 (Wed, 16 Oct 2024) EndedAt: 2024-10-16 20:50:45 -0400 (Wed, 16 Oct 2024) EllapsedTime: 96.4 seconds RetCode: 0 Status: OK PackageFile: MetID_1.22.0.tar.gz PackageFileSize: 1.504 MiB