Package: MetID Version: 1.22.0 Command: /Library/Frameworks/R.framework/Resources/bin/R CMD build --keep-empty-dirs --no-resave-data MetID StartedAt: 2024-06-10 00:30:01 -0400 (Mon, 10 Jun 2024) EndedAt: 2024-06-10 00:31:05 -0400 (Mon, 10 Jun 2024) EllapsedTime: 64.0 seconds RetCode: 0 Status: OK PackageFile: MetID_1.22.0.tar.gz PackageFileSize: 1.504 MiB