Package: MesKit Version: 1.14.0 Command: rm -rf MesKit.buildbin-libdir && mkdir MesKit.buildbin-libdir && /Users/biocbuild/BBS/utils/build-universal.sh MesKit_1.14.0.tar.gz /Library/Frameworks/R.framework/Resources/bin/R MesKit.buildbin-libdir StartedAt: 2024-10-18 19:18:36 -0400 (Fri, 18 Oct 2024) EndedAt: 2024-10-18 19:19:09 -0400 (Fri, 18 Oct 2024) EllapsedTime: 33.0 seconds RetCode: 0 Status: OK PackageFile: MesKit_1.14.0.tgz PackageFileSize: 4.129 MiB