Package: Melissa Version: 1.20.0 Command: rm -rf Melissa.buildbin-libdir && mkdir Melissa.buildbin-libdir && /Users/biocbuild/BBS/utils/build-universal.sh Melissa_1.20.0.tar.gz /Library/Frameworks/R.framework/Resources/bin/R Melissa.buildbin-libdir StartedAt: 2024-10-17 16:32:02 -0400 (Thu, 17 Oct 2024) EndedAt: 2024-10-17 16:32:57 -0400 (Thu, 17 Oct 2024) EllapsedTime: 54.2 seconds RetCode: 0 Status: OK PackageFile: Melissa_1.20.0.tgz PackageFileSize: 4.346 MiB