Package: MatrixRider Version: 1.36.0 Command: /home/biocbuild/R/R-beta-2024-04-15_r86425/bin/R CMD build --keep-empty-dirs --no-resave-data MatrixRider StartedAt: 2024-05-09 01:22:21 -0000 (Thu, 09 May 2024) EndedAt: 2024-05-09 01:23:37 -0000 (Thu, 09 May 2024) EllapsedTime: 76.1 seconds RetCode: 0 Status: OK PackageFile: MatrixRider_1.36.0.tar.gz PackageFileSize: 251.4 KiB