Package: Macarron Version: 1.8.1 Command: /Library/Frameworks/R.framework/Resources/bin/R CMD check --install=check:Macarron.install-out.txt --library=/Library/Frameworks/R.framework/Resources/library --no-vignettes --timings Macarron_1.8.1.tar.gz StartedAt: 2024-10-17 07:33:07 -0400 (Thu, 17 Oct 2024) EndedAt: 2024-10-17 08:13:07 -0400 (Thu, 17 Oct 2024) EllapsedTime: 2400.3 seconds RetCode: None Status: TIMEOUT CheckDir: Macarron.Rcheck Warnings: NA