Package: Macarron Version: 1.8.1 Command: rm -rf Macarron.buildbin-libdir && mkdir Macarron.buildbin-libdir && /Users/biocbuild/BBS/utils/build-universal.sh Macarron_1.8.1.tar.gz /Library/Frameworks/R.framework/Resources/bin/R Macarron.buildbin-libdir StartedAt: 2024-10-17 16:29:29 -0400 (Thu, 17 Oct 2024) EndedAt: 2024-10-17 16:30:20 -0400 (Thu, 17 Oct 2024) EllapsedTime: 50.1 seconds RetCode: 0 Status: OK PackageFile: Macarron_1.8.1.tgz PackageFileSize: 656 KiB