Package: MWASTools Version: 1.28.0 Command: /Library/Frameworks/R.framework/Resources/bin/R CMD check --install=check:MWASTools.install-out.txt --library=/Library/Frameworks/R.framework/Resources/library --no-vignettes --timings MWASTools_1.28.0.tar.gz StartedAt: 2024-06-09 21:50:06 -0400 (Sun, 09 Jun 2024) EndedAt: 2024-06-09 21:54:20 -0400 (Sun, 09 Jun 2024) EllapsedTime: 253.1 seconds RetCode: 0 Status: OK CheckDir: MWASTools.Rcheck Warnings: 0