Package: MSstatsShiny Version: 1.6.2 Command: rm -rf MSstatsShiny.buildbin-libdir && mkdir MSstatsShiny.buildbin-libdir && /Users/biocbuild/BBS/utils/build-universal.sh MSstatsShiny_1.6.2.tar.gz /Library/Frameworks/R.framework/Resources/bin/R MSstatsShiny.buildbin-libdir StartedAt: 2024-10-17 16:41:18 -0400 (Thu, 17 Oct 2024) EndedAt: 2024-10-17 16:42:17 -0400 (Thu, 17 Oct 2024) EllapsedTime: 58.1 seconds RetCode: 0 Status: OK PackageFile: MSstatsShiny_1.6.2.tgz PackageFileSize: 2.292 MiB