Package: MSstatsShiny Version: 1.6.2 Command: /Library/Frameworks/R.framework/Resources/bin/R CMD build --keep-empty-dirs --no-resave-data MSstatsShiny StartedAt: 2024-06-09 17:27:08 -0400 (Sun, 09 Jun 2024) EndedAt: 2024-06-09 17:28:02 -0400 (Sun, 09 Jun 2024) EllapsedTime: 54.2 seconds RetCode: 0 Status: OK PackageFile: MSstatsShiny_1.6.2.tar.gz PackageFileSize: 2.16 MiB