Package: MSstatsShiny Version: 1.6.2 Command: /Library/Frameworks/R.framework/Resources/bin/R CMD check --install=check:MSstatsShiny.install-out.txt --library=/Library/Frameworks/R.framework/Resources/library --no-vignettes --timings MSstatsShiny_1.6.2.tar.gz StartedAt: 2024-06-10 23:15:18 -0400 (Mon, 10 Jun 2024) EndedAt: 2024-06-10 23:20:21 -0400 (Mon, 10 Jun 2024) EllapsedTime: 302.6 seconds RetCode: 0 Status: WARNINGS CheckDir: MSstatsShiny.Rcheck Warnings: 1