Package: MSstatsShiny Version: 1.6.2 Maintainer: Devon Kohler MaintainerEmail: kohler.d at northeastern.edu git_url: https://git.bioconductor.org/packages/MSstatsShiny git_branch: RELEASE_3_19 git_last_commit: c57b8e0 git_last_commit_date: 2024-06-01 12:18:33 -0400 (Sat, 01 Jun 2024)