Package: MSstatsLiP Version: 1.10.0 Command: E:\biocbuild\bbs-3.19-bioc\R\bin\R.exe CMD INSTALL MSstatsLiP StartedAt: 2024-10-16 17:21:46 -0400 (Wed, 16 Oct 2024) EndedAt: 2024-10-16 17:22:46 -0400 (Wed, 16 Oct 2024) EllapsedTime: 59.9 seconds RetCode: 0 Status: OK