Package: MSnbase Version: 2.30.1 Command: /Library/Frameworks/R.framework/Resources/bin/R CMD INSTALL MSnbase StartedAt: 2024-06-09 15:22:40 -0400 (Sun, 09 Jun 2024) EndedAt: 2024-06-09 15:24:14 -0400 (Sun, 09 Jun 2024) EllapsedTime: 94.6 seconds RetCode: 0 Status: OK