Package: MSnID Version: 1.38.0 Command: E:\biocbuild\bbs-3.19-bioc\R\bin\R.exe CMD INSTALL MSnID StartedAt: 2024-10-16 16:54:59 -0400 (Wed, 16 Oct 2024) EndedAt: 2024-10-16 16:56:12 -0400 (Wed, 16 Oct 2024) EllapsedTime: 72.8 seconds RetCode: 0 Status: OK