Package: MSnID Version: 1.38.0 Command: rm -rf MSnID.buildbin-libdir && mkdir MSnID.buildbin-libdir && E:\biocbuild\bbs-3.19-bioc\R\bin\R.exe CMD INSTALL --build --library=MSnID.buildbin-libdir MSnID_1.38.0.tar.gz StartedAt: 2024-10-17 08:12:18 -0400 (Thu, 17 Oct 2024) EndedAt: 2024-10-17 08:13:28 -0400 (Thu, 17 Oct 2024) EllapsedTime: 69.6 seconds RetCode: 0 Status: OK PackageFile: MSnID_1.38.0.zip PackageFileSize: 4.068 MiB