Package: MOMA Version: 1.16.0 Command: chmod a+r MOMA -R && F:\biocbuild\bbs-3.19-bioc\R\bin\R.exe CMD build --keep-empty-dirs --no-resave-data MOMA StartedAt: 2024-06-26 20:11:56 -0400 (Wed, 26 Jun 2024) EndedAt: 2024-06-26 20:14:28 -0400 (Wed, 26 Jun 2024) EllapsedTime: 151.5 seconds RetCode: 0 Status: OK PackageFile: MOMA_1.16.0.tar.gz PackageFileSize: 4.222 MiB