Package: MOGAMUN Version: 1.14.0 Command: chmod a+r MOGAMUN -R && E:\biocbuild\bbs-3.19-bioc\R\bin\R.exe CMD build --keep-empty-dirs --no-resave-data MOGAMUN StartedAt: 2024-10-16 20:25:16 -0400 (Wed, 16 Oct 2024) EndedAt: 2024-10-16 20:25:42 -0400 (Wed, 16 Oct 2024) EllapsedTime: 26.8 seconds RetCode: 0 Status: OK PackageFile: MOGAMUN_1.14.0.tar.gz PackageFileSize: 125.8 KiB