Package: MMUPHin Version: 1.18.1 Command: rm -rf MMUPHin.buildbin-libdir && mkdir MMUPHin.buildbin-libdir && E:\biocbuild\bbs-3.19-bioc\R\bin\R.exe CMD INSTALL --build --library=MMUPHin.buildbin-libdir MMUPHin_1.18.1.tar.gz StartedAt: 2024-10-17 08:09:48 -0400 (Thu, 17 Oct 2024) EndedAt: 2024-10-17 08:10:07 -0400 (Thu, 17 Oct 2024) EllapsedTime: 19.1 seconds RetCode: 0 Status: OK PackageFile: MMUPHin_1.18.1.zip PackageFileSize: 2.393 MiB