Package: MGFM Version: 1.38.0 Command: chmod a+r MGFM -R && F:\biocbuild\bbs-3.19-bioc\R\bin\R.exe CMD build --keep-empty-dirs --no-resave-data MGFM StartedAt: 2024-06-26 20:01:48 -0400 (Wed, 26 Jun 2024) EndedAt: 2024-06-26 20:02:25 -0400 (Wed, 26 Jun 2024) EllapsedTime: 37.0 seconds RetCode: 0 Status: OK PackageFile: MGFM_1.38.0.tar.gz PackageFileSize: 3.3 MiB