Package: MEDME Version: 1.64.0 Command: rm -rf MEDME.buildbin-libdir && mkdir MEDME.buildbin-libdir && /Users/biocbuild/BBS/utils/build-universal.sh MEDME_1.64.0.tar.gz /Library/Frameworks/R.framework/Resources/bin/R MEDME.buildbin-libdir StartedAt: 2024-10-18 19:17:43 -0400 (Fri, 18 Oct 2024) EndedAt: 2024-10-18 19:18:06 -0400 (Fri, 18 Oct 2024) EllapsedTime: 22.7 seconds RetCode: 0 Status: OK PackageFile: MEDME_1.64.0.tgz PackageFileSize: 651 KiB