Package: MEAT Version: 1.16.0 Command: /home/biocbuild/R/R-beta-2024-04-15_r86425/bin/R CMD check --install=check:MEAT.install-out.txt --library=/home/biocbuild/R/R-beta-2024-04-15_r86425/site-library --no-vignettes --timings MEAT_1.16.0.tar.gz StartedAt: 2024-05-09 09:05:50 -0000 (Thu, 09 May 2024) EndedAt: 2024-05-09 09:13:47 -0000 (Thu, 09 May 2024) EllapsedTime: 476.9 seconds RetCode: 0 Status: WARNINGS CheckDir: MEAT.Rcheck Warnings: 1