Package: LBE Version: 1.72.0 Command: E:\biocbuild\bbs-3.19-bioc\R\bin\R.exe CMD check --no-multiarch --install=check:LBE.install-out.txt --library=E:\biocbuild\bbs-3.19-bioc\R\library --no-vignettes --timings LBE_1.72.0.tar.gz StartedAt: 2024-10-17 02:44:33 -0400 (Thu, 17 Oct 2024) EndedAt: 2024-10-17 02:45:01 -0400 (Thu, 17 Oct 2024) EllapsedTime: 28.1 seconds RetCode: 0 Status: OK CheckDir: LBE.Rcheck Warnings: 0