Package: LACE Version: 2.8.0 Command: rm -rf LACE.buildbin-libdir && mkdir LACE.buildbin-libdir && /Users/biocbuild/BBS/utils/build-universal.sh LACE_2.8.0.tar.gz /Library/Frameworks/R.framework/Resources/bin/R LACE.buildbin-libdir StartedAt: 2024-10-17 16:27:54 -0400 (Thu, 17 Oct 2024) EndedAt: 2024-10-17 16:29:16 -0400 (Thu, 17 Oct 2024) EllapsedTime: 82.3 seconds RetCode: 0 Status: OK PackageFile: LACE_2.8.0.tgz PackageFileSize: 3.045 MiB