Package: LACE Version: 2.8.0 Command: /Library/Frameworks/R.framework/Resources/bin/R CMD check --install=check:LACE.install-out.txt --library=/Library/Frameworks/R.framework/Resources/library --no-vignettes --timings LACE_2.8.0.tar.gz StartedAt: 2024-10-18 02:00:53 -0400 (Fri, 18 Oct 2024) EndedAt: 2024-10-18 02:05:09 -0400 (Fri, 18 Oct 2024) EllapsedTime: 256.4 seconds RetCode: 0 Status: OK CheckDir: LACE.Rcheck Warnings: 0