Package: KEGGgraph Version: 1.64.0 Command: chmod a+r KEGGgraph -R && F:\biocbuild\bbs-3.19-bioc\R\bin\R.exe CMD build --keep-empty-dirs --no-resave-data KEGGgraph StartedAt: 2024-06-26 19:42:09 -0400 (Wed, 26 Jun 2024) EndedAt: 2024-06-26 19:43:06 -0400 (Wed, 26 Jun 2024) EllapsedTime: 57.3 seconds RetCode: 0 Status: OK PackageFile: KEGGgraph_1.64.0.tar.gz PackageFileSize: 1.303 MiB