Package: IsoCorrectoR Version: 1.22.0 Command: /Library/Frameworks/R.framework/Resources/bin/R CMD INSTALL IsoCorrectoR StartedAt: 2024-10-16 15:13:32 -0400 (Wed, 16 Oct 2024) EndedAt: 2024-10-16 15:13:54 -0400 (Wed, 16 Oct 2024) EllapsedTime: 22.7 seconds RetCode: 0 Status: OK