Package: IsoBayes Version: 1.2.0 Command: rm -rf IsoBayes.buildbin-libdir && mkdir IsoBayes.buildbin-libdir && F:\biocbuild\bbs-3.19-bioc\R\bin\R.exe CMD INSTALL --build --library=IsoBayes.buildbin-libdir IsoBayes_1.2.0.tar.gz StartedAt: 2024-06-10 15:55:42 -0400 (Mon, 10 Jun 2024) EndedAt: 2024-06-10 15:57:55 -0400 (Mon, 10 Jun 2024) EllapsedTime: 132.9 seconds RetCode: 0 Status: OK PackageFile: IsoBayes_1.2.0.zip PackageFileSize: 1.799 MiB