Package: IsoBayes Version: 1.2.0 Command: rm -rf IsoBayes.buildbin-libdir && mkdir IsoBayes.buildbin-libdir && /Users/biocbuild/BBS/utils/build-universal.sh IsoBayes_1.2.0.tar.gz /Library/Frameworks/R.framework/Resources/bin/R IsoBayes.buildbin-libdir StartedAt: 2024-06-10 00:23:51 -0400 (Mon, 10 Jun 2024) EndedAt: 2024-06-10 00:24:55 -0400 (Mon, 10 Jun 2024) EllapsedTime: 63.8 seconds RetCode: 0 Status: OK PackageFile: IsoBayes_1.2.0.tgz PackageFileSize: 1.569 MiB