Package: Informeasure Version: 1.14.0 Command: /Library/Frameworks/R.framework/Resources/bin/R CMD build --keep-empty-dirs --no-resave-data Informeasure StartedAt: 2024-06-09 17:00:41 -0400 (Sun, 09 Jun 2024) EndedAt: 2024-06-09 17:01:24 -0400 (Sun, 09 Jun 2024) EllapsedTime: 43.8 seconds RetCode: 0 Status: OK PackageFile: Informeasure_1.14.0.tar.gz PackageFileSize: 276.4 KiB