Package: ImmuneSpaceR Version: 1.32.0 Command: chmod a+r ImmuneSpaceR -R && E:\biocbuild\bbs-3.19-bioc\R\bin\R.exe CMD build --keep-empty-dirs --no-resave-data ImmuneSpaceR StartedAt: 2024-10-16 19:47:58 -0400 (Wed, 16 Oct 2024) EndedAt: 2024-10-16 19:48:35 -0400 (Wed, 16 Oct 2024) EllapsedTime: 37.1 seconds RetCode: 1 Status: ERROR PackageFile: None PackageFileSize: NA