Package: IVAS Version: 2.24.0 Command: /home/biocbuild/bbs-3.19-bioc/R/bin/R CMD build --keep-empty-dirs --no-resave-data IVAS StartedAt: 2024-10-16 19:09:08 -0400 (Wed, 16 Oct 2024) EndedAt: 2024-10-16 19:10:11 -0400 (Wed, 16 Oct 2024) EllapsedTime: 63.1 seconds RetCode: 0 Status: OK PackageFile: IVAS_2.24.0.tar.gz PackageFileSize: 254.9 KiB