Package: ISoLDE Version: 1.32.0 Command: rm -rf ISoLDE.buildbin-libdir && mkdir ISoLDE.buildbin-libdir && /Users/biocbuild/BBS/utils/build-universal.sh ISoLDE_1.32.0.tar.gz /Library/Frameworks/R.framework/Resources/bin/R ISoLDE.buildbin-libdir StartedAt: 2024-10-17 16:26:27 -0400 (Thu, 17 Oct 2024) EndedAt: 2024-10-17 16:27:08 -0400 (Thu, 17 Oct 2024) EllapsedTime: 40.2 seconds RetCode: 0 Status: OK PackageFile: ISoLDE_1.32.0.tgz PackageFileSize: 1.234 MiB