Package: IONiseR Version: 2.28.0 Command: /home/biocbuild/R/R-beta-2024-04-15_r86425/bin/R CMD check --install=check:IONiseR.install-out.txt --library=/home/biocbuild/R/R-beta-2024-04-15_r86425/site-library --no-vignettes --timings IONiseR_2.28.0.tar.gz StartedAt: 2024-05-09 08:38:12 -0000 (Thu, 09 May 2024) EndedAt: 2024-05-09 08:43:45 -0000 (Thu, 09 May 2024) EllapsedTime: 333.6 seconds RetCode: 0 Status: OK CheckDir: IONiseR.Rcheck Warnings: 0