Package: IONiseR Version: 2.28.0 Command: /Library/Frameworks/R.framework/Resources/bin/R CMD check --install=check:IONiseR.install-out.txt --library=/Library/Frameworks/R.framework/Resources/library --no-vignettes --timings IONiseR_2.28.0.tar.gz StartedAt: 2024-10-18 01:27:23 -0400 (Fri, 18 Oct 2024) EndedAt: 2024-10-18 01:32:33 -0400 (Fri, 18 Oct 2024) EllapsedTime: 310.7 seconds RetCode: 0 Status: OK CheckDir: IONiseR.Rcheck Warnings: 0