Package: IMPCdata Version: 1.40.0 Command: E:\biocbuild\bbs-3.19-bioc\R\bin\R.exe CMD check --no-multiarch --install=check:IMPCdata.install-out.txt --library=E:\biocbuild\bbs-3.19-bioc\R\library --no-vignettes --timings IMPCdata_1.40.0.tar.gz StartedAt: 2024-10-17 02:29:43 -0400 (Thu, 17 Oct 2024) EndedAt: 2024-10-17 02:31:15 -0400 (Thu, 17 Oct 2024) EllapsedTime: 92.5 seconds RetCode: 0 Status: OK CheckDir: IMPCdata.Rcheck Warnings: 0