Package: IMPCdata Version: 1.40.0 Command: chmod a+r IMPCdata -R && E:\biocbuild\bbs-3.19-bioc\R\bin\R.exe CMD build --keep-empty-dirs --no-resave-data IMPCdata StartedAt: 2024-10-16 19:48:36 -0400 (Wed, 16 Oct 2024) EndedAt: 2024-10-16 19:50:38 -0400 (Wed, 16 Oct 2024) EllapsedTime: 121.7 seconds RetCode: 0 Status: OK PackageFile: IMPCdata_1.40.0.tar.gz PackageFileSize: 107.8 KiB